BEGIN:VCALENDAR
VERSION:2.0
PRODID:-//Zoence - ECPv6.15.20//NONSGML v1.0//EN
CALSCALE:GREGORIAN
METHOD:PUBLISH
X-WR-CALNAME:Zoence
X-ORIGINAL-URL:https://www.zoence.co.uk
X-WR-CALDESC:Events for Zoence
REFRESH-INTERVAL;VALUE=DURATION:PT1H
X-Robots-Tag:noindex
X-PUBLISHED-TTL:PT1H
BEGIN:VTIMEZONE
TZID:Europe/London
BEGIN:DAYLIGHT
TZOFFSETFROM:+0000
TZOFFSETTO:+0100
TZNAME:BST
DTSTART:20250330T010000
END:DAYLIGHT
BEGIN:STANDARD
TZOFFSETFROM:+0100
TZOFFSETTO:+0000
TZNAME:GMT
DTSTART:20251026T010000
END:STANDARD
BEGIN:DAYLIGHT
TZOFFSETFROM:+0000
TZOFFSETTO:+0100
TZNAME:BST
DTSTART:20260329T010000
END:DAYLIGHT
BEGIN:STANDARD
TZOFFSETFROM:+0100
TZOFFSETTO:+0000
TZNAME:GMT
DTSTART:20261025T010000
END:STANDARD
BEGIN:DAYLIGHT
TZOFFSETFROM:+0000
TZOFFSETTO:+0100
TZNAME:BST
DTSTART:20270328T010000
END:DAYLIGHT
BEGIN:STANDARD
TZOFFSETFROM:+0100
TZOFFSETTO:+0000
TZNAME:GMT
DTSTART:20271031T010000
END:STANDARD
END:VTIMEZONE
BEGIN:VEVENT
DTSTART;TZID=Europe/London:20260314T100000
DTEND;TZID=Europe/London:20260315T170000
DTSTAMP:20260424T130605
CREATED:20251226T195159Z
LAST-MODIFIED:20260218T122653Z
UID:6085-1773482400-1773594000@www.zoence.co.uk
SUMMARY:The Maidens’ Breath & Holy Grail of Illumination
DESCRIPTION:How to work with this rhythm of life that leads to enlightenment. \nThis weekend workshop in Bad Pyrmont\, Germany\, led by Peter and Sarah Dawkins\, is designed to help you gain a deeper understanding of one of the essential rhythms of life so that you can work with it consciously and increase the good that you can do in the world. \nThe Nine Maidens\, aspects of the Great Goddess\, are associated with and explained by the Kabbalistic Tree of Life. They are an expression of the divine law or wisdom of life in terms of the cycle of time as experienced on Earth in its love relationship with the Sun. They are also an expression of the love-relationship we have with our spirit and each other. Behind it lies the great mystery of the Divine Father-Mother\, or Wisdom-Intelligence\, who in their love-making produce their illumined and illuminating child of light. \nBreathing well\, physically and spiritually\, is part of this mystery\, as the Divine Intelligence is described as a holy breath or wind\, imbued with wisdom\, that moves through the universe. Spiritual breathing is inspiration. The Nine Maidens provide the inspiration required for the nine great steps of initiation taken on the path to illumination\, the birth of light\, which light is a joy\, a delight\, a peace profound. It is also knowledge of truth\, gained by an experience of the wisdom\, which is love – love in action. \nPeter and Sarah speak English\, and will be translated into German. \nEvent and booking details (in German) available here. \nAlso see Haus der Begegnung\, Bad Pyrmont\, Germany\, for details.
URL:https://www.zoence.co.uk/event/the-maidens-breath-holy-grail-of-illumination/
LOCATION:Haus der Begegnung\, Seminarzentrum\, Mühlenstrasse 2\, Bad Pyrmont\, 31812\, Germany
CATEGORIES:Zoence workshop
ATTACH;FMTTYPE=image/jpeg:https://www.zoence.co.uk/wp-content/uploads/2025/12/Bad_Pyrmont-074a-scaled.jpg
ORGANIZER;CN="Haus der Begegnung":MAILTO:HdB-seminar@gmx.de
END:VEVENT
END:VCALENDAR